BEGIN:VCALENDAR
VERSION:2.0
PRODID:-//Hope Academy Recovery High School - ECPv6.15.20//NONSGML v1.0//EN
CALSCALE:GREGORIAN
METHOD:PUBLISH
X-WR-CALNAME:Hope Academy Recovery High School
X-ORIGINAL-URL:https://www.hopeacademyrhs.org
X-WR-CALDESC:Events for Hope Academy Recovery High School
REFRESH-INTERVAL;VALUE=DURATION:PT1H
X-Robots-Tag:noindex
X-PUBLISHED-TTL:PT1H
BEGIN:VTIMEZONE
TZID:America/Indiana/Indianapolis
BEGIN:DAYLIGHT
TZOFFSETFROM:-0500
TZOFFSETTO:-0400
TZNAME:EDT
DTSTART:20250309T070000
END:DAYLIGHT
BEGIN:STANDARD
TZOFFSETFROM:-0400
TZOFFSETTO:-0500
TZNAME:EST
DTSTART:20251102T060000
END:STANDARD
BEGIN:DAYLIGHT
TZOFFSETFROM:-0500
TZOFFSETTO:-0400
TZNAME:EDT
DTSTART:20260308T070000
END:DAYLIGHT
BEGIN:STANDARD
TZOFFSETFROM:-0400
TZOFFSETTO:-0500
TZNAME:EST
DTSTART:20261101T060000
END:STANDARD
BEGIN:DAYLIGHT
TZOFFSETFROM:-0500
TZOFFSETTO:-0400
TZNAME:EDT
DTSTART:20270314T070000
END:DAYLIGHT
BEGIN:STANDARD
TZOFFSETFROM:-0400
TZOFFSETTO:-0500
TZNAME:EST
DTSTART:20271107T060000
END:STANDARD
END:VTIMEZONE
BEGIN:VEVENT
DTSTART;TZID=America/Indiana/Indianapolis:20260206T090000
DTEND;TZID=America/Indiana/Indianapolis:20260206T140400
DTSTAMP:20260423T092758
CREATED:20250709T002940Z
LAST-MODIFIED:20250709T002955Z
UID:18566-1770368400-1770386640@www.hopeacademyrhs.org
SUMMARY:Early Release Day
DESCRIPTION:Early Release Day 2:04pm
URL:https://www.hopeacademyrhs.org/event/early-release-day-copy-copy-copy-copy-copy-copy-copy-copy-copy-copy-copy-copy-copy-copy-copy-copy-copy/
LOCATION:Hope Academy\, 3919 Madison Avenue\, Suite 100\, Indianapolis\, IN\, 46227\, United States
CATEGORIES:Early Release Day
END:VEVENT
BEGIN:VEVENT
DTSTART;TZID=America/Indiana/Indianapolis:20260220T090000
DTEND;TZID=America/Indiana/Indianapolis:20260220T140400
DTSTAMP:20260423T092758
CREATED:20250709T003008Z
LAST-MODIFIED:20250709T003018Z
UID:18568-1771578000-1771596240@www.hopeacademyrhs.org
SUMMARY:Early Release Day
DESCRIPTION:Early Release Day 2:04pm
URL:https://www.hopeacademyrhs.org/event/early-release-day-copy-copy-copy-copy-copy-copy-copy-copy-copy-copy-copy-copy-copy-copy-copy-copy-copy-copy/
LOCATION:Hope Academy\, 3919 Madison Avenue\, Suite 100\, Indianapolis\, IN\, 46227\, United States
CATEGORIES:Early Release Day
END:VEVENT
BEGIN:VEVENT
DTSTART;TZID=America/Indiana/Indianapolis:20260227T090000
DTEND;TZID=America/Indiana/Indianapolis:20260227T140400
DTSTAMP:20260423T092758
CREATED:20250709T003023Z
LAST-MODIFIED:20250709T003043Z
UID:18570-1772182800-1772201040@www.hopeacademyrhs.org
SUMMARY:Early Release Day
DESCRIPTION:Early Release Day 2:04pm
URL:https://www.hopeacademyrhs.org/event/early-release-day-copy-copy-copy-copy-copy-copy-copy-copy-copy-copy-copy-copy-copy-copy-copy-copy-copy-copy-copy/
LOCATION:Hope Academy\, 3919 Madison Avenue\, Suite 100\, Indianapolis\, IN\, 46227\, United States
CATEGORIES:Early Release Day
END:VEVENT
BEGIN:VEVENT
DTSTART;TZID=America/Indiana/Indianapolis:20260306T090000
DTEND;TZID=America/Indiana/Indianapolis:20260306T140400
DTSTAMP:20260423T092758
CREATED:20250709T005114Z
LAST-MODIFIED:20250709T005131Z
UID:18578-1772787600-1772805840@www.hopeacademyrhs.org
SUMMARY:Early Release Day
DESCRIPTION:Early Release Day 2:04pm
URL:https://www.hopeacademyrhs.org/event/early-release-day-copy-copy-copy-copy-copy-copy-copy-copy-copy-copy-copy-copy-copy-copy-copy-copy-copy-copy-copy-copy/
LOCATION:Hope Academy\, 3919 Madison Avenue\, Suite 100\, Indianapolis\, IN\, 46227\, United States
CATEGORIES:Early Release Day
END:VEVENT
BEGIN:VEVENT
DTSTART;TZID=America/Indiana/Indianapolis:20260327T090000
DTEND;TZID=America/Indiana/Indianapolis:20260327T140400
DTSTAMP:20260423T092758
CREATED:20250709T005138Z
LAST-MODIFIED:20250709T005201Z
UID:18580-1774602000-1774620240@www.hopeacademyrhs.org
SUMMARY:Early Release Day
DESCRIPTION:Early Release Day 2:04pm
URL:https://www.hopeacademyrhs.org/event/early-release-day-copy-copy-copy-copy-copy-copy-copy-copy-copy-copy-copy-copy-copy-copy-copy-copy-copy-copy-copy-copy-copy/
LOCATION:Hope Academy\, 3919 Madison Avenue\, Suite 100\, Indianapolis\, IN\, 46227\, United States
CATEGORIES:Early Release Day
END:VEVENT
BEGIN:VEVENT
DTSTART;TZID=America/Indiana/Indianapolis:20260410T090000
DTEND;TZID=America/Indiana/Indianapolis:20260410T140400
DTSTAMP:20260423T092758
CREATED:20250709T005342Z
LAST-MODIFIED:20250709T005413Z
UID:18586-1775811600-1775829840@www.hopeacademyrhs.org
SUMMARY:Early Release Day
DESCRIPTION:Early Release Day 2:04pm
URL:https://www.hopeacademyrhs.org/event/early-release-day-copy-copy-copy-copy-copy-copy-copy-copy-copy-copy-copy-copy-copy-copy-copy-copy-copy-copy-copy-copy-copy-copy/
LOCATION:Hope Academy\, 3919 Madison Avenue\, Suite 100\, Indianapolis\, IN\, 46227\, United States
CATEGORIES:Early Release Day
END:VEVENT
BEGIN:VEVENT
DTSTART;TZID=America/Indiana/Indianapolis:20260417T090000
DTEND;TZID=America/Indiana/Indianapolis:20260417T140400
DTSTAMP:20260423T092758
CREATED:20250709T005418Z
LAST-MODIFIED:20250709T005428Z
UID:18588-1776416400-1776434640@www.hopeacademyrhs.org
SUMMARY:Early Release Day
DESCRIPTION:Early Release Day 2:04pm
URL:https://www.hopeacademyrhs.org/event/early-release-day-copy-copy-copy-copy-copy-copy-copy-copy-copy-copy-copy-copy-copy-copy-copy-copy-copy-copy-copy-copy-copy-copy-copy/
LOCATION:Hope Academy\, 3919 Madison Avenue\, Suite 100\, Indianapolis\, IN\, 46227\, United States
CATEGORIES:Early Release Day
END:VEVENT
BEGIN:VEVENT
DTSTART;TZID=America/Indiana/Indianapolis:20260424T090000
DTEND;TZID=America/Indiana/Indianapolis:20260424T140400
DTSTAMP:20260423T092758
CREATED:20250709T005433Z
LAST-MODIFIED:20250709T005446Z
UID:18590-1777021200-1777039440@www.hopeacademyrhs.org
SUMMARY:Early Release Day
DESCRIPTION:Early Release Day 2:04pm
URL:https://www.hopeacademyrhs.org/event/early-release-day-copy-copy-copy-copy-copy-copy-copy-copy-copy-copy-copy-copy-copy-copy-copy-copy-copy-copy-copy-copy-copy-copy-copy-copy/
LOCATION:Hope Academy\, 3919 Madison Avenue\, Suite 100\, Indianapolis\, IN\, 46227\, United States
CATEGORIES:Early Release Day
END:VEVENT
BEGIN:VEVENT
DTSTART;TZID=America/Indiana/Indianapolis:20260501T090000
DTEND;TZID=America/Indiana/Indianapolis:20260501T140400
DTSTAMP:20260423T092758
CREATED:20250709T005622Z
LAST-MODIFIED:20250709T005634Z
UID:18594-1777626000-1777644240@www.hopeacademyrhs.org
SUMMARY:Early Release Day
DESCRIPTION:Early Release Day 2:04pm
URL:https://www.hopeacademyrhs.org/event/early-release-day-copy-copy-copy-copy-copy-copy-copy-copy-copy-copy-copy-copy-copy-copy-copy-copy-copy-copy-copy-copy-copy-copy-copy-copy-copy/
LOCATION:Hope Academy\, 3919 Madison Avenue\, Suite 100\, Indianapolis\, IN\, 46227\, United States
CATEGORIES:Early Release Day
END:VEVENT
BEGIN:VEVENT
DTSTART;TZID=America/Indiana/Indianapolis:20260508T090000
DTEND;TZID=America/Indiana/Indianapolis:20260508T140400
DTSTAMP:20260423T092758
CREATED:20250709T005640Z
LAST-MODIFIED:20250709T005659Z
UID:18596-1778230800-1778249040@www.hopeacademyrhs.org
SUMMARY:Early Release Day
DESCRIPTION:Early Release Day 2:04pm
URL:https://www.hopeacademyrhs.org/event/early-release-day-copy-copy-copy-copy-copy-copy-copy-copy-copy-copy-copy-copy-copy-copy-copy-copy-copy-copy-copy-copy-copy-copy-copy-copy-copy-copy/
LOCATION:Hope Academy\, 3919 Madison Avenue\, Suite 100\, Indianapolis\, IN\, 46227\, United States
CATEGORIES:Early Release Day
END:VEVENT
BEGIN:VEVENT
DTSTART;TZID=America/Indiana/Indianapolis:20260515T090000
DTEND;TZID=America/Indiana/Indianapolis:20260515T140400
DTSTAMP:20260423T092758
CREATED:20250709T005703Z
LAST-MODIFIED:20250709T005717Z
UID:18598-1778835600-1778853840@www.hopeacademyrhs.org
SUMMARY:Early Release Day
DESCRIPTION:Early Release Day 2:04pm
URL:https://www.hopeacademyrhs.org/event/early-release-day-copy-copy-copy-copy-copy-copy-copy-copy-copy-copy-copy-copy-copy-copy-copy-copy-copy-copy-copy-copy-copy-copy-copy-copy-copy-copy-copy/
LOCATION:Hope Academy\, 3919 Madison Avenue\, Suite 100\, Indianapolis\, IN\, 46227\, United States
CATEGORIES:Early Release Day
END:VEVENT
END:VCALENDAR