BEGIN:VCALENDAR
VERSION:2.0
PRODID:-//Hope Academy Recovery High School - ECPv6.15.20//NONSGML v1.0//EN
CALSCALE:GREGORIAN
METHOD:PUBLISH
X-ORIGINAL-URL:https://www.hopeacademyrhs.org
X-WR-CALDESC:Events for Hope Academy Recovery High School
REFRESH-INTERVAL;VALUE=DURATION:PT1H
X-Robots-Tag:noindex
X-PUBLISHED-TTL:PT1H
BEGIN:VTIMEZONE
TZID:America/Indiana/Indianapolis
BEGIN:DAYLIGHT
TZOFFSETFROM:-0500
TZOFFSETTO:-0400
TZNAME:EDT
DTSTART:20250309T070000
END:DAYLIGHT
BEGIN:STANDARD
TZOFFSETFROM:-0400
TZOFFSETTO:-0500
TZNAME:EST
DTSTART:20251102T060000
END:STANDARD
BEGIN:DAYLIGHT
TZOFFSETFROM:-0500
TZOFFSETTO:-0400
TZNAME:EDT
DTSTART:20260308T070000
END:DAYLIGHT
BEGIN:STANDARD
TZOFFSETFROM:-0400
TZOFFSETTO:-0500
TZNAME:EST
DTSTART:20261101T060000
END:STANDARD
BEGIN:DAYLIGHT
TZOFFSETFROM:-0500
TZOFFSETTO:-0400
TZNAME:EDT
DTSTART:20270314T070000
END:DAYLIGHT
BEGIN:STANDARD
TZOFFSETFROM:-0400
TZOFFSETTO:-0500
TZNAME:EST
DTSTART:20271107T060000
END:STANDARD
END:VTIMEZONE
BEGIN:VEVENT
DTSTART;TZID=America/Indiana/Indianapolis:20260109T090000
DTEND;TZID=America/Indiana/Indianapolis:20260109T140400
DTSTAMP:20260423T074731
CREATED:20250709T002611Z
LAST-MODIFIED:20250709T002630Z
UID:18552-1767949200-1767967440@www.hopeacademyrhs.org
SUMMARY:Early Release Day
DESCRIPTION:Early Release Day 2:04pm
URL:https://www.hopeacademyrhs.org/event/early-release-day-copy-copy-copy-copy-copy-copy-copy-copy-copy-copy-copy-copy-copy/
LOCATION:Hope Academy\, 3919 Madison Avenue\, Suite 100\, Indianapolis\, IN\, 46227\, United States
CATEGORIES:Early Release Day
END:VEVENT
BEGIN:VEVENT
DTSTART;TZID=America/Indiana/Indianapolis:20260116T090000
DTEND;TZID=America/Indiana/Indianapolis:20260116T140400
DTSTAMP:20260423T074731
CREATED:20250709T002637Z
LAST-MODIFIED:20250709T002733Z
UID:18554-1768554000-1768572240@www.hopeacademyrhs.org
SUMMARY:Early Release Day
DESCRIPTION:Early Release Day 2:04pm
URL:https://www.hopeacademyrhs.org/event/early-release-day-copy-copy-copy-copy-copy-copy-copy-copy-copy-copy-copy-copy-copy-copy/
LOCATION:Hope Academy\, 3919 Madison Avenue\, Suite 100\, Indianapolis\, IN\, 46227\, United States
CATEGORIES:Early Release Day
END:VEVENT
BEGIN:VEVENT
DTSTART;TZID=America/Indiana/Indianapolis:20260123T090000
DTEND;TZID=America/Indiana/Indianapolis:20260123T140400
DTSTAMP:20260423T074731
CREATED:20250709T002653Z
LAST-MODIFIED:20250709T002724Z
UID:18556-1769158800-1769177040@www.hopeacademyrhs.org
SUMMARY:Early Release Day
DESCRIPTION:Early Release Day 2:04pm
URL:https://www.hopeacademyrhs.org/event/early-release-day-copy-copy-copy-copy-copy-copy-copy-copy-copy-copy-copy-copy-copy-copy-copy/
LOCATION:Hope Academy\, 3919 Madison Avenue\, Suite 100\, Indianapolis\, IN\, 46227\, United States
CATEGORIES:Early Release Day
END:VEVENT
BEGIN:VEVENT
DTSTART;TZID=America/Indiana/Indianapolis:20260130T090000
DTEND;TZID=America/Indiana/Indianapolis:20260130T140400
DTSTAMP:20260423T074731
CREATED:20250709T002736Z
LAST-MODIFIED:20250709T002747Z
UID:18560-1769763600-1769781840@www.hopeacademyrhs.org
SUMMARY:Early Release Day
DESCRIPTION:Early Release Day 2:04pm
URL:https://www.hopeacademyrhs.org/event/early-release-day-copy-copy-copy-copy-copy-copy-copy-copy-copy-copy-copy-copy-copy-copy-copy-copy/
LOCATION:Hope Academy\, 3919 Madison Avenue\, Suite 100\, Indianapolis\, IN\, 46227\, United States
CATEGORIES:Early Release Day
END:VEVENT
END:VCALENDAR